BEGIN:VCALENDAR
VERSION:2.0
PRODID:-//Franz-Koringer-Musikschule der Stadt Leibnitz - ECPv6.15.20//NONSGML v1.0//EN
CALSCALE:GREGORIAN
METHOD:PUBLISH
X-WR-CALNAME:Franz-Koringer-Musikschule der Stadt Leibnitz
X-ORIGINAL-URL:https://www.ms-leibnitz.at
X-WR-CALDESC:Veranstaltungen für Franz-Koringer-Musikschule der Stadt Leibnitz
REFRESH-INTERVAL;VALUE=DURATION:PT1H
X-Robots-Tag:noindex
X-PUBLISHED-TTL:PT1H
BEGIN:VTIMEZONE
TZID:Europe/Helsinki
BEGIN:DAYLIGHT
TZOFFSETFROM:+0200
TZOFFSETTO:+0300
TZNAME:EEST
DTSTART:20250330T010000
END:DAYLIGHT
BEGIN:STANDARD
TZOFFSETFROM:+0300
TZOFFSETTO:+0200
TZNAME:EET
DTSTART:20251026T010000
END:STANDARD
BEGIN:DAYLIGHT
TZOFFSETFROM:+0200
TZOFFSETTO:+0300
TZNAME:EEST
DTSTART:20260329T010000
END:DAYLIGHT
BEGIN:STANDARD
TZOFFSETFROM:+0300
TZOFFSETTO:+0200
TZNAME:EET
DTSTART:20261025T010000
END:STANDARD
BEGIN:DAYLIGHT
TZOFFSETFROM:+0200
TZOFFSETTO:+0300
TZNAME:EEST
DTSTART:20270328T010000
END:DAYLIGHT
BEGIN:STANDARD
TZOFFSETFROM:+0300
TZOFFSETTO:+0200
TZNAME:EET
DTSTART:20271031T010000
END:STANDARD
END:VTIMEZONE
BEGIN:VEVENT
DTSTART;TZID=Europe/Helsinki:20260302T183000
DTEND;TZID=Europe/Helsinki:20260302T193000
DTSTAMP:20260417T184152
CREATED:20260226T115039Z
LAST-MODIFIED:20260226T115040Z
UID:1742-1772476200-1772479800@www.ms-leibnitz.at
SUMMARY:Klavier-Vorspielstunde der Klasse Balash
DESCRIPTION:
URL:https://www.ms-leibnitz.at/index.php/event/klavier-vorspielstunde-der-klasse-balash-2/
LOCATION:Musikschule Leibnitz\, Wagnastraße 9\, Leibnitz\, Steiermark\, 8430\, Österreich
CATEGORIES:Vorspielstunde
ATTACH;FMTTYPE=image/jpeg:https://www.ms-leibnitz.at/wp-content/uploads/2026/02/2026_03_02_Balash.jpeg
END:VEVENT
BEGIN:VEVENT
DTSTART;TZID=Europe/Helsinki:20260304T180000
DTEND;TZID=Europe/Helsinki:20260304T193000
DTSTAMP:20260417T184152
CREATED:20260206T094314Z
LAST-MODIFIED:20260206T094315Z
UID:1732-1772647200-1772652600@www.ms-leibnitz.at
SUMMARY:Frühlingskonzert der Franz-Koringer-Musikschule Leibnitz
DESCRIPTION:Eine gemeinsame Vorspielstunde aller Klassen
URL:https://www.ms-leibnitz.at/index.php/event/fruehlingskonzert-der-franz-koringer-musikschule-leibnitz/
LOCATION:Musikschule Leibnitz\, Wagnastraße 9\, Leibnitz\, Steiermark\, 8430\, Österreich
CATEGORIES:Konzert,Vorspielstunde
ATTACH;FMTTYPE=image/png:https://www.ms-leibnitz.at/wp-content/uploads/2026/02/2026_03_04_Plakat_Fruehlingskonzert-scaled.png
END:VEVENT
BEGIN:VEVENT
DTSTART;TZID=Europe/Helsinki:20260309T180000
DTEND;TZID=Europe/Helsinki:20260309T193000
DTSTAMP:20260417T184152
CREATED:20260211T091553Z
LAST-MODIFIED:20260211T091554Z
UID:1736-1773079200-1773084600@www.ms-leibnitz.at
SUMMARY:Steirische Harmonika-\, Akkordeon-\, Keyboard-Vorspielstunde der Klasse Žan Trobas
DESCRIPTION:
URL:https://www.ms-leibnitz.at/index.php/event/steirische-harmonika-akkordeon-keyboard-vorspielstunde-der-klasse-zan-trobas-2/
LOCATION:Musikschule Leibnitz\, Wagnastraße 9\, Leibnitz\, Steiermark\, 8430\, Österreich
CATEGORIES:Vorspielstunde
ATTACH;FMTTYPE=image/png:https://www.ms-leibnitz.at/wp-content/uploads/2026/02/2026_03_09_Vorspielstunde_Trobas-2-scaled.png
END:VEVENT
BEGIN:VEVENT
DTSTART;TZID=Europe/Helsinki:20260325T183000
DTEND;TZID=Europe/Helsinki:20260325T193000
DTSTAMP:20260417T184152
CREATED:20260311T113520Z
LAST-MODIFIED:20260311T113520Z
UID:1751-1774463400-1774467000@www.ms-leibnitz.at
SUMMARY:Abschlusskonzert Klavier - Yannis Pagger\, Klasse Innerhofer-Gluderer
DESCRIPTION:
URL:https://www.ms-leibnitz.at/index.php/event/abschlusskonzert-klavier-yannis-pagger-klasse-innerhofer-gluderer/
LOCATION:Musikschule Leibnitz\, Wagnastraße 9\, Leibnitz\, Steiermark\, 8430\, Österreich
CATEGORIES:Abschlussprüfung,Konzert
ATTACH;FMTTYPE=image/jpeg:https://www.ms-leibnitz.at/wp-content/uploads/2026/03/PHOTO-2026-03-09-08-34-16.jpg
END:VEVENT
END:VCALENDAR