BEGIN:VCALENDAR
VERSION:2.0
PRODID:-//Franz-Koringer-Musikschule der Stadt Leibnitz - ECPv6.15.20//NONSGML v1.0//EN
CALSCALE:GREGORIAN
METHOD:PUBLISH
X-ORIGINAL-URL:https://www.ms-leibnitz.at
X-WR-CALDESC:Veranstaltungen für Franz-Koringer-Musikschule der Stadt Leibnitz
REFRESH-INTERVAL;VALUE=DURATION:PT1H
X-Robots-Tag:noindex
X-PUBLISHED-TTL:PT1H
BEGIN:VTIMEZONE
TZID:Europe/Helsinki
BEGIN:DAYLIGHT
TZOFFSETFROM:+0200
TZOFFSETTO:+0300
TZNAME:EEST
DTSTART:20250330T010000
END:DAYLIGHT
BEGIN:STANDARD
TZOFFSETFROM:+0300
TZOFFSETTO:+0200
TZNAME:EET
DTSTART:20251026T010000
END:STANDARD
BEGIN:DAYLIGHT
TZOFFSETFROM:+0200
TZOFFSETTO:+0300
TZNAME:EEST
DTSTART:20260329T010000
END:DAYLIGHT
BEGIN:STANDARD
TZOFFSETFROM:+0300
TZOFFSETTO:+0200
TZNAME:EET
DTSTART:20261025T010000
END:STANDARD
BEGIN:DAYLIGHT
TZOFFSETFROM:+0200
TZOFFSETTO:+0300
TZNAME:EEST
DTSTART:20270328T010000
END:DAYLIGHT
BEGIN:STANDARD
TZOFFSETFROM:+0300
TZOFFSETTO:+0200
TZNAME:EET
DTSTART:20271031T010000
END:STANDARD
END:VTIMEZONE
BEGIN:VEVENT
DTSTART;TZID=Europe/Helsinki:20260205T180000
DTEND;TZID=Europe/Helsinki:20260205T193000
DTSTAMP:20260416T064817
CREATED:20260121T112210Z
LAST-MODIFIED:20260121T112211Z
UID:1718-1770314400-1770319800@www.ms-leibnitz.at
SUMMARY:Klarinetten- und Saxophon-Vorspielstunde der Klasse Swoboda
DESCRIPTION:
URL:https://www.ms-leibnitz.at/index.php/event/klarinetten-und-saxophon-vorspielstunde-der-klasse-swoboda/
LOCATION:Musikschule Leibnitz\, Wagnastraße 9\, Leibnitz\, Steiermark\, 8430\, Österreich
CATEGORIES:Vorspielstunde
ATTACH;FMTTYPE=image/png:https://www.ms-leibnitz.at/wp-content/uploads/2026/01/2026_02_05_VSST_Swoboda-2-scaled.png
END:VEVENT
BEGIN:VEVENT
DTSTART;TZID=Europe/Helsinki:20260207T170000
DTEND;TZID=Europe/Helsinki:20260207T180000
DTSTAMP:20260416T064817
CREATED:20260128T125509Z
LAST-MODIFIED:20260128T125509Z
UID:1726-1770483600-1770487200@www.ms-leibnitz.at
SUMMARY:Gitarrenvorspielstunde der Klasse Kolarik
DESCRIPTION:
URL:https://www.ms-leibnitz.at/index.php/event/gitarrenvorspielstunde-der-klasse-kolarik/
LOCATION:Musikschule Leibnitz\, Wagnastraße 9\, Leibnitz\, Steiermark\, 8430\, Österreich
CATEGORIES:Vorspielstunde
ATTACH;FMTTYPE=image/png:https://www.ms-leibnitz.at/wp-content/uploads/2026/01/2026_02_07_VSST_Kolarik-scaled.png
END:VEVENT
BEGIN:VEVENT
DTSTART;TZID=Europe/Helsinki:20260212T170000
DTEND;TZID=Europe/Helsinki:20260212T180000
DTSTAMP:20260416T064817
CREATED:20260126T112954Z
LAST-MODIFIED:20260126T112955Z
UID:1723-1770915600-1770919200@www.ms-leibnitz.at
SUMMARY:Vorspielstunde "Blech" der Klassen Ferk und Weiß
DESCRIPTION:
URL:https://www.ms-leibnitz.at/index.php/event/vorspielstunde-blech-der-klassen-ferk-und-weiss/
LOCATION:Musikschule Leibnitz\, Wagnastraße 9\, Leibnitz\, Steiermark\, 8430\, Österreich
CATEGORIES:Vorspielstunde
ATTACH;FMTTYPE=image/png:https://www.ms-leibnitz.at/wp-content/uploads/2026/01/2026_02_12_WeissUndFerkVorspielstunde-scaled.png
END:VEVENT
END:VCALENDAR