BEGIN:VCALENDAR
VERSION:2.0
PRODID:-//Franz-Koringer-Musikschule der Stadt Leibnitz - ECPv6.15.20//NONSGML v1.0//EN
CALSCALE:GREGORIAN
METHOD:PUBLISH
X-WR-CALNAME:Franz-Koringer-Musikschule der Stadt Leibnitz
X-ORIGINAL-URL:https://www.ms-leibnitz.at
X-WR-CALDESC:Veranstaltungen für Franz-Koringer-Musikschule der Stadt Leibnitz
REFRESH-INTERVAL;VALUE=DURATION:PT1H
X-Robots-Tag:noindex
X-PUBLISHED-TTL:PT1H
BEGIN:VTIMEZONE
TZID:Europe/Helsinki
BEGIN:DAYLIGHT
TZOFFSETFROM:+0200
TZOFFSETTO:+0300
TZNAME:EEST
DTSTART:20240331T010000
END:DAYLIGHT
BEGIN:STANDARD
TZOFFSETFROM:+0300
TZOFFSETTO:+0200
TZNAME:EET
DTSTART:20241027T010000
END:STANDARD
BEGIN:DAYLIGHT
TZOFFSETFROM:+0200
TZOFFSETTO:+0300
TZNAME:EEST
DTSTART:20250330T010000
END:DAYLIGHT
BEGIN:STANDARD
TZOFFSETFROM:+0300
TZOFFSETTO:+0200
TZNAME:EET
DTSTART:20251026T010000
END:STANDARD
BEGIN:DAYLIGHT
TZOFFSETFROM:+0200
TZOFFSETTO:+0300
TZNAME:EEST
DTSTART:20260329T010000
END:DAYLIGHT
BEGIN:STANDARD
TZOFFSETFROM:+0300
TZOFFSETTO:+0200
TZNAME:EET
DTSTART:20261025T010000
END:STANDARD
END:VTIMEZONE
BEGIN:VEVENT
DTSTART;TZID=Europe/Helsinki:20251201T181500
DTEND;TZID=Europe/Helsinki:20251201T193000
DTSTAMP:20260420T173405
CREATED:20251112T111749Z
LAST-MODIFIED:20251112T111750Z
UID:1669-1764612900-1764617400@www.ms-leibnitz.at
SUMMARY:Klaviervorspielstunde der Klasse Innerhofer-Gluderer
DESCRIPTION:
URL:https://www.ms-leibnitz.at/index.php/event/klaviervorspielstunde-der-klasse-innerhofer-gluderer/
LOCATION:Musikschule Leibnitz\, Wagnastraße 9\, Leibnitz\, Steiermark\, 8430\, Österreich
CATEGORIES:Vorspielstunde
ATTACH;FMTTYPE=image/png:https://www.ms-leibnitz.at/wp-content/uploads/2025/11/Plakat-Innerhofer-Dez-2025-entwurf-5.png
END:VEVENT
BEGIN:VEVENT
DTSTART;TZID=Europe/Helsinki:20251203T183000
DTEND;TZID=Europe/Helsinki:20251203T193000
DTSTAMP:20260420T173405
CREATED:20251117T095414Z
LAST-MODIFIED:20251117T095414Z
UID:1677-1764786600-1764790200@www.ms-leibnitz.at
SUMMARY:Klaviervorspielabend der Klasse Balash
DESCRIPTION:
URL:https://www.ms-leibnitz.at/index.php/event/klaviervorspielabend-der-klasse-balash-2/
LOCATION:Musikschule Leibnitz\, Wagnastraße 9\, Leibnitz\, Steiermark\, 8430\, Österreich
CATEGORIES:Vorspielstunde
ATTACH;FMTTYPE=image/png:https://www.ms-leibnitz.at/wp-content/uploads/2025/11/2025_12_VsStd_Balash.png
END:VEVENT
BEGIN:VEVENT
DTSTART;TZID=Europe/Helsinki:20251204T180000
DTEND;TZID=Europe/Helsinki:20251204T193000
DTSTAMP:20260420T173405
CREATED:20251114T104123Z
LAST-MODIFIED:20251114T104140Z
UID:1673-1764871200-1764876600@www.ms-leibnitz.at
SUMMARY:Cello- und Gesangsvorspielstunde der Klasse Trunk
DESCRIPTION:
URL:https://www.ms-leibnitz.at/index.php/event/cello-und-gesangsvoerpielstunde-der-klasse-trunk/
LOCATION:Musikschule Leibnitz\, Wagnastraße 9\, Leibnitz\, Steiermark\, 8430\, Österreich
CATEGORIES:Vorspielstunde
ATTACH;FMTTYPE=image/png:https://www.ms-leibnitz.at/wp-content/uploads/2025/11/2025_12_Cello_und_Gesang.png
END:VEVENT
BEGIN:VEVENT
DTSTART;TZID=Europe/Helsinki:20251211T173000
DTEND;TZID=Europe/Helsinki:20251211T190000
DTSTAMP:20260420T173405
CREATED:20251120T121001Z
LAST-MODIFIED:20251120T121001Z
UID:1684-1765474200-1765479600@www.ms-leibnitz.at
SUMMARY:Querflötenvorspielstunde der Klasse Ully
DESCRIPTION:
URL:https://www.ms-leibnitz.at/index.php/event/querfloetenvorspielstunde-der-klasse-ully/
LOCATION:Musikschule Leibnitz\, Wagnastraße 9\, Leibnitz\, Steiermark\, 8430\, Österreich
CATEGORIES:Vorspielstunde
ATTACH;FMTTYPE=image/png:https://www.ms-leibnitz.at/wp-content/uploads/2025/11/2025_12_11_Querfloetenvorspielstunde.png
END:VEVENT
BEGIN:VEVENT
DTSTART;TZID=Europe/Helsinki:20251214T170000
DTEND;TZID=Europe/Helsinki:20251214T183000
DTSTAMP:20260420T173405
CREATED:20251127T113444Z
LAST-MODIFIED:20251127T113445Z
UID:1692-1765731600-1765737000@www.ms-leibnitz.at
SUMMARY:Weihnachtskonzert Chor Allegretto/Klasse Trobas in der Stadtpfarrkirche
DESCRIPTION:
URL:https://www.ms-leibnitz.at/index.php/event/weihnachtskonzert-chor-allegretto-klasse-trobas-in-der-stadtpfarrkirche/
LOCATION:Stadtpfarrkirche Leibnitz\, Hauptplatz Leibnitz\, Leibnitz\, Austria
CATEGORIES:Konzert
ATTACH;FMTTYPE=image/png:https://www.ms-leibnitz.at/wp-content/uploads/2025/11/LeibnitzerAdvent.png
END:VEVENT
BEGIN:VEVENT
DTSTART;TZID=Europe/Helsinki:20251217T173000
DTEND;TZID=Europe/Helsinki:20251217T190000
DTSTAMP:20260420T173405
CREATED:20251118T090511Z
LAST-MODIFIED:20251118T090512Z
UID:1680-1765992600-1765998000@www.ms-leibnitz.at
SUMMARY:Gesang-\, Tanz- und Klaviervorspielabend der Klasse Hofmann
DESCRIPTION:
URL:https://www.ms-leibnitz.at/index.php/event/gesang-tanz-und-klaviervorspielabend-der-klasse-hofmann/
LOCATION:Musikschule Leibnitz\, Wagnastraße 9\, Leibnitz\, Steiermark\, 8430\, Österreich
CATEGORIES:Vorspielstunde
ATTACH;FMTTYPE=image/png:https://www.ms-leibnitz.at/wp-content/uploads/2025/11/2025_12_VsStd_Hofmann.png
END:VEVENT
BEGIN:VEVENT
DTSTART;TZID=Europe/Helsinki:20251221T100000
DTEND;TZID=Europe/Helsinki:20251221T105000
DTSTAMP:20260420T173405
CREATED:20251127T111412Z
LAST-MODIFIED:20251218T093524Z
UID:1689-1766311200-1766314200@www.ms-leibnitz.at
SUMMARY:ABGESAGT: Harfen- und Oboenvorspielstunde der Klasse Hafner
DESCRIPTION:ABGESAGT!!
URL:https://www.ms-leibnitz.at/index.php/event/harfen-und-oboenvorspielstunde-der-klasse-hafner/
LOCATION:Musikschule Leibnitz\, Wagnastraße 9\, Leibnitz\, Steiermark\, 8430\, Österreich
CATEGORIES:Vorspielstunde
ATTACH;FMTTYPE=image/png:https://www.ms-leibnitz.at/wp-content/uploads/2025/11/Kopie-von-Harfe-und-Oboe-5.4.2025.png
END:VEVENT
END:VCALENDAR