BEGIN:VCALENDAR
VERSION:2.0
PRODID:-//Franz-Koringer-Musikschule der Stadt Leibnitz - ECPv6.15.20//NONSGML v1.0//EN
CALSCALE:GREGORIAN
METHOD:PUBLISH
X-WR-CALNAME:Franz-Koringer-Musikschule der Stadt Leibnitz
X-ORIGINAL-URL:https://www.ms-leibnitz.at
X-WR-CALDESC:Veranstaltungen für Franz-Koringer-Musikschule der Stadt Leibnitz
REFRESH-INTERVAL;VALUE=DURATION:PT1H
X-Robots-Tag:noindex
X-PUBLISHED-TTL:PT1H
BEGIN:VTIMEZONE
TZID:Europe/Helsinki
BEGIN:DAYLIGHT
TZOFFSETFROM:+0200
TZOFFSETTO:+0300
TZNAME:EEST
DTSTART:20240331T010000
END:DAYLIGHT
BEGIN:STANDARD
TZOFFSETFROM:+0300
TZOFFSETTO:+0200
TZNAME:EET
DTSTART:20241027T010000
END:STANDARD
BEGIN:DAYLIGHT
TZOFFSETFROM:+0200
TZOFFSETTO:+0300
TZNAME:EEST
DTSTART:20250330T010000
END:DAYLIGHT
BEGIN:STANDARD
TZOFFSETFROM:+0300
TZOFFSETTO:+0200
TZNAME:EET
DTSTART:20251026T010000
END:STANDARD
BEGIN:DAYLIGHT
TZOFFSETFROM:+0200
TZOFFSETTO:+0300
TZNAME:EEST
DTSTART:20260329T010000
END:DAYLIGHT
BEGIN:STANDARD
TZOFFSETFROM:+0300
TZOFFSETTO:+0200
TZNAME:EET
DTSTART:20261025T010000
END:STANDARD
END:VTIMEZONE
BEGIN:VEVENT
DTSTART;TZID=Europe/Helsinki:20251105T180000
DTEND;TZID=Europe/Helsinki:20251105T183000
DTSTAMP:20260415T210032
CREATED:20251111T111753Z
LAST-MODIFIED:20251111T111753Z
UID:1664-1762365600-1762367400@www.ms-leibnitz.at
SUMMARY:Akkordeonkonzert Leo Florin
DESCRIPTION:
URL:https://www.ms-leibnitz.at/index.php/event/akkordeonkonzert-leo-florin/
LOCATION:Musikschule Leibnitz\, Wagnastraße 9\, Leibnitz\, Steiermark\, 8430\, Österreich
CATEGORIES:Konzert
ATTACH;FMTTYPE=image/png:https://www.ms-leibnitz.at/wp-content/uploads/2025/11/2025-11-05-quer-Leo-Florin-Akkordeonkonzert.png
END:VEVENT
BEGIN:VEVENT
DTSTART;TZID=Europe/Helsinki:20251112T180000
DTEND;TZID=Europe/Helsinki:20251112T190000
DTSTAMP:20260415T210032
CREATED:20251107T074038Z
LAST-MODIFIED:20251107T074039Z
UID:1655-1762970400-1762974000@www.ms-leibnitz.at
SUMMARY:Violinenvorspielstunde der Klasse Stangl
DESCRIPTION:
URL:https://www.ms-leibnitz.at/index.php/event/violinenvorspielstunde-der-klasse-stangl/
LOCATION:Musikschule Leibnitz\, Wagnastraße 9\, Leibnitz\, Steiermark\, 8430\, Österreich
CATEGORIES:Vorspielstunde
ATTACH;FMTTYPE=image/png:https://www.ms-leibnitz.at/wp-content/uploads/2025/11/2025-11-12-Stangl-VSST-v1-2.png
END:VEVENT
BEGIN:VEVENT
DTSTART;TZID=Europe/Helsinki:20251121T190000
DTEND;TZID=Europe/Helsinki:20251121T203000
DTSTAMP:20260415T210032
CREATED:20251106T153153Z
LAST-MODIFIED:20251107T073716Z
UID:1649-1763751600-1763757000@www.ms-leibnitz.at
SUMMARY:Studio Percussion: THE ENDLESS BEAT
DESCRIPTION:Weitere Infos
URL:https://www.ms-leibnitz.at/index.php/event/studio-percussion-the-endless-beat/
LOCATION:Musikschule Leibnitz\, Wagnastraße 9\, Leibnitz\, Steiermark\, 8430\, Österreich
CATEGORIES:Konzert,öffentliche Probe
ATTACH;FMTTYPE=image/jpeg:https://www.ms-leibnitz.at/wp-content/uploads/2025/11/2025-11-21-Studio-Percussion-Konzert.jpg
END:VEVENT
BEGIN:VEVENT
DTSTART;TZID=Europe/Helsinki:20251124T180000
DTEND;TZID=Europe/Helsinki:20251124T193000
DTSTAMP:20260415T210032
CREATED:20251111T111331Z
LAST-MODIFIED:20251111T111957Z
UID:1658-1764007200-1764012600@www.ms-leibnitz.at
SUMMARY:Klarinetten- und Saxophonvorspielstunde der Klasse Swoboda
DESCRIPTION:
URL:https://www.ms-leibnitz.at/index.php/event/klarinetten-und-saxophonvorspielstunde-der-klasse-swoboda/
LOCATION:Musikschule Leibnitz\, Wagnastraße 9\, Leibnitz\, Steiermark\, 8430\, Österreich
CATEGORIES:Vorspielstunde
ATTACH;FMTTYPE=image/png:https://www.ms-leibnitz.at/wp-content/uploads/2025/11/Vorspielstunde-Swoboda-Nov-2025-scaled.png
END:VEVENT
BEGIN:VEVENT
DTSTART;TZID=Europe/Helsinki:20251127T180000
DTEND;TZID=Europe/Helsinki:20251127T193000
DTSTAMP:20260415T210032
CREATED:20251111T111456Z
LAST-MODIFIED:20251111T111456Z
UID:1661-1764266400-1764271800@www.ms-leibnitz.at
SUMMARY:Gitarren-Vorspielstunde der Klasse Wallner
DESCRIPTION:
URL:https://www.ms-leibnitz.at/index.php/event/gitarren-vorspielstunde-der-klasse-wallner/
LOCATION:Musikschule Leibnitz\, Wagnastraße 9\, Leibnitz\, Steiermark\, 8430\, Österreich
CATEGORIES:Vorspielstunde
ATTACH;FMTTYPE=image/png:https://www.ms-leibnitz.at/wp-content/uploads/2025/11/Gitarren-Vorspielstunde-Wallner-27.11.2025.png
END:VEVENT
END:VCALENDAR