BEGIN:VCALENDAR
VERSION:2.0
PRODID:-//Franz-Koringer-Musikschule der Stadt Leibnitz - ECPv6.15.20//NONSGML v1.0//EN
CALSCALE:GREGORIAN
METHOD:PUBLISH
X-WR-CALNAME:Franz-Koringer-Musikschule der Stadt Leibnitz
X-ORIGINAL-URL:https://www.ms-leibnitz.at
X-WR-CALDESC:Veranstaltungen für Franz-Koringer-Musikschule der Stadt Leibnitz
REFRESH-INTERVAL;VALUE=DURATION:PT1H
X-Robots-Tag:noindex
X-PUBLISHED-TTL:PT1H
BEGIN:VTIMEZONE
TZID:Europe/Helsinki
BEGIN:DAYLIGHT
TZOFFSETFROM:+0200
TZOFFSETTO:+0300
TZNAME:EEST
DTSTART:20240331T010000
END:DAYLIGHT
BEGIN:STANDARD
TZOFFSETFROM:+0300
TZOFFSETTO:+0200
TZNAME:EET
DTSTART:20241027T010000
END:STANDARD
BEGIN:DAYLIGHT
TZOFFSETFROM:+0200
TZOFFSETTO:+0300
TZNAME:EEST
DTSTART:20250330T010000
END:DAYLIGHT
BEGIN:STANDARD
TZOFFSETFROM:+0300
TZOFFSETTO:+0200
TZNAME:EET
DTSTART:20251026T010000
END:STANDARD
BEGIN:DAYLIGHT
TZOFFSETFROM:+0200
TZOFFSETTO:+0300
TZNAME:EEST
DTSTART:20260329T010000
END:DAYLIGHT
BEGIN:STANDARD
TZOFFSETFROM:+0300
TZOFFSETTO:+0200
TZNAME:EET
DTSTART:20261025T010000
END:STANDARD
END:VTIMEZONE
BEGIN:VEVENT
DTSTART;TZID=Europe/Helsinki:20251003T133000
DTEND;TZID=Europe/Helsinki:20251003T173000
DTSTAMP:20260417T184139
CREATED:20250822T103431Z
LAST-MODIFIED:20250922T102726Z
UID:1567-1759498200-1759512600@www.ms-leibnitz.at
SUMMARY:Straßenfest: 70 Jahre Musikschule Leibnitz
DESCRIPTION:
URL:https://www.ms-leibnitz.at/index.php/event/70-jahre-musikschule-leibnitz-musik-fuer-alle/
LOCATION:Musikschule Leibnitz\, Wagnastraße 9\, Leibnitz\, Steiermark\, 8430\, Österreich
CATEGORIES:Konzert
ATTACH;FMTTYPE=image/png:https://www.ms-leibnitz.at/wp-content/uploads/2025/08/Plakat-Strassenfest-3-scaled.png
END:VEVENT
BEGIN:VEVENT
DTSTART;TZID=Europe/Helsinki:20251004T193000
DTEND;TZID=Europe/Helsinki:20251004T203000
DTSTAMP:20260417T184139
CREATED:20250915T110727Z
LAST-MODIFIED:20250916T092115Z
UID:1601-1759606200-1759609800@www.ms-leibnitz.at
SUMMARY:Gedenkkonzert zum 25. Todestag Franz Koringers
DESCRIPTION:
URL:https://www.ms-leibnitz.at/index.php/event/gedenkkonzert-zum-25-todestag-franz-korianders/
LOCATION:Musikschule Leibnitz\, Wagnastraße 9\, Leibnitz\, Steiermark\, 8430\, Österreich
CATEGORIES:Konzert
ATTACH;FMTTYPE=image/png:https://www.ms-leibnitz.at/wp-content/uploads/2025/09/Kopie-von-Franz-Koringer-Gedenkkonzert-A4-v-4-3.png
END:VEVENT
END:VCALENDAR