BEGIN:VCALENDAR
VERSION:2.0
PRODID:-//Franz-Koringer-Musikschule der Stadt Leibnitz - ECPv6.15.20//NONSGML v1.0//EN
CALSCALE:GREGORIAN
METHOD:PUBLISH
X-WR-CALNAME:Franz-Koringer-Musikschule der Stadt Leibnitz
X-ORIGINAL-URL:https://www.ms-leibnitz.at
X-WR-CALDESC:Veranstaltungen für Franz-Koringer-Musikschule der Stadt Leibnitz
REFRESH-INTERVAL;VALUE=DURATION:PT1H
X-Robots-Tag:noindex
X-PUBLISHED-TTL:PT1H
BEGIN:VTIMEZONE
TZID:Europe/Helsinki
BEGIN:DAYLIGHT
TZOFFSETFROM:+0200
TZOFFSETTO:+0300
TZNAME:EEST
DTSTART:20240331T010000
END:DAYLIGHT
BEGIN:STANDARD
TZOFFSETFROM:+0300
TZOFFSETTO:+0200
TZNAME:EET
DTSTART:20241027T010000
END:STANDARD
BEGIN:DAYLIGHT
TZOFFSETFROM:+0200
TZOFFSETTO:+0300
TZNAME:EEST
DTSTART:20250330T010000
END:DAYLIGHT
BEGIN:STANDARD
TZOFFSETFROM:+0300
TZOFFSETTO:+0200
TZNAME:EET
DTSTART:20251026T010000
END:STANDARD
BEGIN:DAYLIGHT
TZOFFSETFROM:+0200
TZOFFSETTO:+0300
TZNAME:EEST
DTSTART:20260329T010000
END:DAYLIGHT
BEGIN:STANDARD
TZOFFSETFROM:+0300
TZOFFSETTO:+0200
TZNAME:EET
DTSTART:20261025T010000
END:STANDARD
END:VTIMEZONE
BEGIN:VEVENT
DTSTART;TZID=Europe/Helsinki:20250908T140000
DTEND;TZID=Europe/Helsinki:20250908T160000
DTSTAMP:20260416T002055
CREATED:20250822T100043Z
LAST-MODIFIED:20250822T100045Z
UID:1563-1757340000-1757347200@www.ms-leibnitz.at
SUMMARY:Stundeneinteilung für alle Hauptfächer
DESCRIPTION:Stundeneinteilung für alle Hauptfächer\, sofern mit dem Hauptfachlehrer oder der Hauptfachlehrerin nicht anders vereinbart\, am Mo\, 8.9. zwischen 14:00 und 16:00 im jeweiligen Raum.
URL:https://www.ms-leibnitz.at/index.php/event/stundeneinteilung-fuer-alle-hauptfaecher/
LOCATION:Musikschule Leibnitz\, Wagnastraße 9\, Leibnitz\, Steiermark\, 8430\, Österreich
CATEGORIES:Stundeneinteilung
ATTACH;FMTTYPE=image/png:https://www.ms-leibnitz.at/wp-content/uploads/2024/10/cropped-LOGO_Franz-Koringer-Musikschule_4C.png
END:VEVENT
BEGIN:VEVENT
DTSTART;TZID=Europe/Helsinki:20250908T190000
DTEND;TZID=Europe/Helsinki:20250908T194000
DTSTAMP:20260416T002055
CREATED:20250826T102413Z
LAST-MODIFIED:20250826T102543Z
UID:1578-1757358000-1757360400@www.ms-leibnitz.at
SUMMARY:Informationsabend Früherziehung und Eltern-Kind-Musizieren
DESCRIPTION:Informationen zu den Kursen Musikalische Früherziehung 4-6 Jahre und Eltern Kind-Musizieren 0\,5-3 Jahre.
URL:https://www.ms-leibnitz.at/index.php/event/informationsabend-frueherziehung-und-eltern-kind-musizieren/
LOCATION:Musikschule Leibnitz\, Wagnastraße 9\, Leibnitz\, Steiermark\, 8430\, Österreich
ATTACH;FMTTYPE=image/jpeg:https://www.ms-leibnitz.at/wp-content/uploads/2025/08/Bild-EMP-.jpg
END:VEVENT
BEGIN:VEVENT
DTSTART;TZID=Europe/Helsinki:20250911T170000
DTEND;TZID=Europe/Helsinki:20250911T173000
DTSTAMP:20260416T002055
CREATED:20250908T090721Z
LAST-MODIFIED:20250908T090722Z
UID:1598-1757610000-1757611800@www.ms-leibnitz.at
SUMMARY:Schnupperstunde Chor Allegretto
DESCRIPTION:
URL:https://www.ms-leibnitz.at/index.php/event/schnupperstunde-chor-allegretto/
LOCATION:Musikschule Leibnitz\, Wagnastraße 9\, Leibnitz\, Steiermark\, 8430\, Österreich
CATEGORIES:Schnupperstunde
ATTACH;FMTTYPE=image/jpeg:https://www.ms-leibnitz.at/wp-content/uploads/2025/09/Schnupperstunde-ALLEGRETTO-Sept.-25.jpg
END:VEVENT
END:VCALENDAR