BEGIN:VCALENDAR
VERSION:2.0
PRODID:-//Franz-Koringer-Musikschule der Stadt Leibnitz - ECPv6.15.20//NONSGML v1.0//EN
CALSCALE:GREGORIAN
METHOD:PUBLISH
X-WR-CALNAME:Franz-Koringer-Musikschule der Stadt Leibnitz
X-ORIGINAL-URL:https://www.ms-leibnitz.at
X-WR-CALDESC:Veranstaltungen für Franz-Koringer-Musikschule der Stadt Leibnitz
REFRESH-INTERVAL;VALUE=DURATION:PT1H
X-Robots-Tag:noindex
X-PUBLISHED-TTL:PT1H
BEGIN:VTIMEZONE
TZID:Europe/Helsinki
BEGIN:DAYLIGHT
TZOFFSETFROM:+0200
TZOFFSETTO:+0300
TZNAME:EEST
DTSTART:20240331T010000
END:DAYLIGHT
BEGIN:STANDARD
TZOFFSETFROM:+0300
TZOFFSETTO:+0200
TZNAME:EET
DTSTART:20241027T010000
END:STANDARD
BEGIN:DAYLIGHT
TZOFFSETFROM:+0200
TZOFFSETTO:+0300
TZNAME:EEST
DTSTART:20250330T010000
END:DAYLIGHT
BEGIN:STANDARD
TZOFFSETFROM:+0300
TZOFFSETTO:+0200
TZNAME:EET
DTSTART:20251026T010000
END:STANDARD
BEGIN:DAYLIGHT
TZOFFSETFROM:+0200
TZOFFSETTO:+0300
TZNAME:EEST
DTSTART:20260329T010000
END:DAYLIGHT
BEGIN:STANDARD
TZOFFSETFROM:+0300
TZOFFSETTO:+0200
TZNAME:EET
DTSTART:20261025T010000
END:STANDARD
END:VTIMEZONE
BEGIN:VEVENT
DTSTART;TZID=Europe/Helsinki:20250601T160000
DTEND;TZID=Europe/Helsinki:20250601T170000
DTSTAMP:20260420T133037
CREATED:20250527T102701Z
LAST-MODIFIED:20250527T102816Z
UID:1515-1748793600-1748797200@www.ms-leibnitz.at
SUMMARY:Weinberg-Vibes
DESCRIPTION:
URL:https://www.ms-leibnitz.at/index.php/event/weinberg-vibes/
LOCATION:Buschenschank Bernhard\, Rettenbach 86\, Leibnitz\, Steiermark\, 8430\, Austria
CATEGORIES:Konzert
END:VEVENT
BEGIN:VEVENT
DTSTART;TZID=Europe/Helsinki:20250604T180000
DTEND;TZID=Europe/Helsinki:20250604T193000
DTSTAMP:20260420T133037
CREATED:20250527T102336Z
LAST-MODIFIED:20250527T102337Z
UID:1512-1749060000-1749065400@www.ms-leibnitz.at
SUMMARY:Querflötenvorspielstunde der Klasse Kathrin Ully
DESCRIPTION:
URL:https://www.ms-leibnitz.at/index.php/event/querfloetenvorspielstunde-der-klasse-kathrin-ully/
LOCATION:Musikschule Leibnitz\, Wagnastraße 9\, Leibnitz\, Steiermark\, 8430\, Österreich
CATEGORIES:Vorspielstunde
END:VEVENT
BEGIN:VEVENT
DTSTART;TZID=Europe/Helsinki:20250606T180000
DTEND;TZID=Europe/Helsinki:20250606T183000
DTSTAMP:20260420T133037
CREATED:20250522T142211Z
LAST-MODIFIED:20250522T142211Z
UID:1504-1749232800-1749234600@www.ms-leibnitz.at
SUMMARY:Festival Lipa
DESCRIPTION:
URL:https://www.ms-leibnitz.at/index.php/event/festival-lipa/
LOCATION:Musikschule Leibnitz\, Wagnastraße 9\, Leibnitz\, Steiermark\, 8430\, Österreich
CATEGORIES:Konzert,Workshop
END:VEVENT
BEGIN:VEVENT
DTSTART;TZID=Europe/Helsinki:20250607T180000
DTEND;TZID=Europe/Helsinki:20250607T183000
DTSTAMP:20260420T133037
CREATED:20250522T142320Z
LAST-MODIFIED:20250522T142321Z
UID:1507-1749319200-1749321000@www.ms-leibnitz.at
SUMMARY:Festival Lipa
DESCRIPTION:
URL:https://www.ms-leibnitz.at/index.php/event/festival-lipa-2/
LOCATION:Musikschule Leibnitz\, Wagnastraße 9\, Leibnitz\, Steiermark\, 8430\, Österreich
CATEGORIES:Konzert,Workshop
END:VEVENT
BEGIN:VEVENT
DTSTART;TZID=Europe/Helsinki:20250611T183000
DTEND;TZID=Europe/Helsinki:20250611T193000
DTSTAMP:20260420T133037
CREATED:20250515T135300Z
LAST-MODIFIED:20250611T074540Z
UID:1496-1749666600-1749670200@www.ms-leibnitz.at
SUMMARY:ABGESAGT: Klaviervorspielstunde der Klasse Ursula Innerhofer-Gluderer
DESCRIPTION:
URL:https://www.ms-leibnitz.at/index.php/event/klaviervorspielstunde-der-klasse-ursula-innerhofer-gluderer/
LOCATION:Musikschule Leibnitz\, Wagnastraße 9\, Leibnitz\, Steiermark\, 8430\, Österreich
CATEGORIES:Vorspielstunde
END:VEVENT
BEGIN:VEVENT
DTSTART;TZID=Europe/Helsinki:20250614T141400
DTEND;TZID=Europe/Helsinki:20250614T151500
DTSTAMP:20260420T133037
CREATED:20250602T090402Z
LAST-MODIFIED:20250611T074455Z
UID:1525-1749910440-1749914100@www.ms-leibnitz.at
SUMMARY:ABGESAGT: Gitarrenvorspielstunde der Klasse Marian Kolarik
DESCRIPTION:
URL:https://www.ms-leibnitz.at/index.php/event/gfitarrenvorspielstunder-der-klasse-marian-kolarik/
LOCATION:Musikschule Leibnitz\, Wagnastraße 9\, Leibnitz\, Steiermark\, 8430\, Österreich
CATEGORIES:Vorspielstunde
END:VEVENT
BEGIN:VEVENT
DTSTART;TZID=Europe/Helsinki:20250616T180000
DTEND;TZID=Europe/Helsinki:20250616T193000
DTSTAMP:20260420T133037
CREATED:20250522T142037Z
LAST-MODIFIED:20250522T142038Z
UID:1501-1750096800-1750102200@www.ms-leibnitz.at
SUMMARY:Klaviervorspielstunde der Klasse Elena Schlauer
DESCRIPTION:
URL:https://www.ms-leibnitz.at/index.php/event/klaviervorspielstunde-der-klasse-elena-schlauer-2/
LOCATION:Musikschule Leibnitz\, Wagnastraße 9\, Leibnitz\, Steiermark\, 8430\, Österreich
CATEGORIES:Vorspielstunde
END:VEVENT
BEGIN:VEVENT
DTSTART;TZID=Europe/Helsinki:20250623T183000
DTEND;TZID=Europe/Helsinki:20250623T193000
DTSTAMP:20260420T133037
CREATED:20250614T091327Z
LAST-MODIFIED:20250614T091328Z
UID:1540-1750703400-1750707000@www.ms-leibnitz.at
SUMMARY:Klaviervorspielstunde der Klasse Azadeh Balash
DESCRIPTION:
URL:https://www.ms-leibnitz.at/index.php/event/klaviervorspielstunde-der-klasse-azadeh-balash-2/
LOCATION:Musikschule Leibnitz\, Wagnastraße 9\, Leibnitz\, Steiermark\, 8430\, Österreich
CATEGORIES:Vorspielstunde
END:VEVENT
BEGIN:VEVENT
DTSTART;TZID=Europe/Helsinki:20250625T170000
DTEND;TZID=Europe/Helsinki:20250625T180000
DTSTAMP:20260420T133037
CREATED:20250620T102653Z
LAST-MODIFIED:20250620T102654Z
UID:1545-1750870800-1750874400@www.ms-leibnitz.at
SUMMARY:Tiefes Blech - Vorspielstunde der Klasse Tobias Weiß
DESCRIPTION:
URL:https://www.ms-leibnitz.at/index.php/event/tiefes-blech-vorspielstunde-der-klasse-tobias-weiss/
LOCATION:Musikschule Leibnitz\, Wagnastraße 9\, Leibnitz\, Steiermark\, 8430\, Österreich
CATEGORIES:Vorspielstunde
END:VEVENT
BEGIN:VEVENT
DTSTART;TZID=Europe/Helsinki:20250626T183000
DTEND;TZID=Europe/Helsinki:20250626T200000
DTSTAMP:20260420T133037
CREATED:20250610T110025Z
LAST-MODIFIED:20250610T110026Z
UID:1533-1750962600-1750968000@www.ms-leibnitz.at
SUMMARY:Gitarrenvorspielstunde der Klasse Manuel Wallner
DESCRIPTION:
URL:https://www.ms-leibnitz.at/index.php/event/gitarrenvorspielstunde-der-klasse-manuel-wallner-2/
LOCATION:Musikschule Leibnitz\, Wagnastraße 9\, Leibnitz\, Steiermark\, 8430\, Österreich
CATEGORIES:Vorspielstunde
END:VEVENT
END:VCALENDAR