BEGIN:VCALENDAR
VERSION:2.0
PRODID:-//Franz-Koringer-Musikschule der Stadt Leibnitz - ECPv6.15.20//NONSGML v1.0//EN
CALSCALE:GREGORIAN
METHOD:PUBLISH
X-WR-CALNAME:Franz-Koringer-Musikschule der Stadt Leibnitz
X-ORIGINAL-URL:https://www.ms-leibnitz.at
X-WR-CALDESC:Veranstaltungen für Franz-Koringer-Musikschule der Stadt Leibnitz
REFRESH-INTERVAL;VALUE=DURATION:PT1H
X-Robots-Tag:noindex
X-PUBLISHED-TTL:PT1H
BEGIN:VTIMEZONE
TZID:Europe/Helsinki
BEGIN:DAYLIGHT
TZOFFSETFROM:+0200
TZOFFSETTO:+0300
TZNAME:EEST
DTSTART:20240331T010000
END:DAYLIGHT
BEGIN:STANDARD
TZOFFSETFROM:+0300
TZOFFSETTO:+0200
TZNAME:EET
DTSTART:20241027T010000
END:STANDARD
BEGIN:DAYLIGHT
TZOFFSETFROM:+0200
TZOFFSETTO:+0300
TZNAME:EEST
DTSTART:20250330T010000
END:DAYLIGHT
BEGIN:STANDARD
TZOFFSETFROM:+0300
TZOFFSETTO:+0200
TZNAME:EET
DTSTART:20251026T010000
END:STANDARD
BEGIN:DAYLIGHT
TZOFFSETFROM:+0200
TZOFFSETTO:+0300
TZNAME:EEST
DTSTART:20260329T010000
END:DAYLIGHT
BEGIN:STANDARD
TZOFFSETFROM:+0300
TZOFFSETTO:+0200
TZNAME:EET
DTSTART:20261025T010000
END:STANDARD
END:VTIMEZONE
BEGIN:VEVENT
DTSTART;TZID=Europe/Helsinki:20250505T183000
DTEND;TZID=Europe/Helsinki:20250505T193000
DTSTAMP:20260420T150645
CREATED:20250206T094455Z
LAST-MODIFIED:20250425T102902Z
UID:1417-1746469800-1746473400@www.ms-leibnitz.at
SUMMARY:Klaviervorspielstunde der Klasse Azadeh Balash
DESCRIPTION:
URL:https://www.ms-leibnitz.at/index.php/event/klaviervorspielstunde-der-klasse-azadeh-balash-3/
LOCATION:Musikschule Leibnitz\, Wagnastraße 9\, Leibnitz\, Steiermark\, 8430\, Österreich
CATEGORIES:Vorspielstunde
END:VEVENT
BEGIN:VEVENT
DTSTART;TZID=Europe/Helsinki:20250508T100000
DTEND;TZID=Europe/Helsinki:20250508T133000
DTSTAMP:20260420T150645
CREATED:20250403T142225Z
LAST-MODIFIED:20250403T142225Z
UID:1453-1746698400-1746711000@www.ms-leibnitz.at
SUMMARY:Jugendorchesterkonzert - Orientexpress
DESCRIPTION:
URL:https://www.ms-leibnitz.at/index.php/event/jugendorchesterkonzert-orientexpress/
LOCATION:Hugo-Wolf-Saal\, Kaspar-Harb-Gasse 4\, Leibnitz\, 8430\, Österreich
CATEGORIES:Konzert
END:VEVENT
BEGIN:VEVENT
DTSTART;TZID=Europe/Helsinki:20250512T180000
DTEND;TZID=Europe/Helsinki:20250512T183000
DTSTAMP:20260420T150645
CREATED:20250507T095750Z
LAST-MODIFIED:20250507T095752Z
UID:1486-1747072800-1747074600@www.ms-leibnitz.at
SUMMARY:Gesang und Klavier Vorspielabend der Klasse Martina Schlemmer
DESCRIPTION:
URL:https://www.ms-leibnitz.at/index.php/event/gesang-und-klavier-vorspielabend-der-klasse-martina-schlemmer/
LOCATION:Musikschule Leibnitz\, Wagnastraße 9\, Leibnitz\, Steiermark\, 8430\, Österreich
CATEGORIES:Vorspielstunde
END:VEVENT
BEGIN:VEVENT
DTSTART;TZID=Europe/Helsinki:20250514T180000
DTEND;TZID=Europe/Helsinki:20250514T193000
DTSTAMP:20260420T150645
CREATED:20250506T102459Z
LAST-MODIFIED:20250506T102500Z
UID:1479-1747245600-1747251000@www.ms-leibnitz.at
SUMMARY:Cello und Gesangsvorspielstunde der Klasse Martina Trunk
DESCRIPTION:
URL:https://www.ms-leibnitz.at/index.php/event/cello-und-gesangsvorspielstunde-der-klasse-martina-trunk-2/
LOCATION:Musikschule Leibnitz\, Wagnastraße 9\, Leibnitz\, Steiermark\, 8430\, Österreich
CATEGORIES:Vorspielstunde
END:VEVENT
BEGIN:VEVENT
DTSTART;TZID=Europe/Helsinki:20250522T190000
DTEND;TZID=Europe/Helsinki:20250522T193000
DTSTAMP:20260420T150645
CREATED:20250506T102849Z
LAST-MODIFIED:20250506T102850Z
UID:1483-1747940400-1747942200@www.ms-leibnitz.at
SUMMARY:Abschlusskonzert Ivan Schlauer - Gitarre
DESCRIPTION:
URL:https://www.ms-leibnitz.at/index.php/event/abschlusskonzert-ivan-schlauer-gitarre-2/
LOCATION:Musikschule Leibnitz\, Wagnastraße 9\, Leibnitz\, Steiermark\, 8430\, Österreich
CATEGORIES:Abschlussprüfung,Konzert
END:VEVENT
BEGIN:VEVENT
DTSTART;TZID=Europe/Helsinki:20250527T160000
DTEND;TZID=Europe/Helsinki:20250527T162000
DTSTAMP:20260420T150645
CREATED:20250522T142537Z
LAST-MODIFIED:20250522T142538Z
UID:1509-1748361600-1748362800@www.ms-leibnitz.at
SUMMARY:Generalprobe Leonhard Jud für Bundeswettbewerb Prima la Musica
DESCRIPTION:
URL:https://www.ms-leibnitz.at/index.php/event/generalprobe-leonhard-jud-fuer-bundeswettbewerb-prima-la-musica/
LOCATION:Musikschule Leibnitz\, Wagnastraße 9\, Leibnitz\, Steiermark\, 8430\, Österreich
CATEGORIES:öffentliche Probe
END:VEVENT
BEGIN:VEVENT
DTSTART;TZID=Europe/Helsinki:20250528T180000
DTEND;TZID=Europe/Helsinki:20250528T193000
DTSTAMP:20260420T150645
CREATED:20250506T102319Z
LAST-MODIFIED:20250527T160251Z
UID:1476-1748455200-1748460600@www.ms-leibnitz.at
SUMMARY:Blockflötenvorspielstunde der Klasse Andrea Adam
DESCRIPTION:
URL:https://www.ms-leibnitz.at/index.php/event/blockfloetenvorspielstunde-der-klasse-andrea-adam/
LOCATION:Musikschule Leibnitz\, Wagnastraße 9\, Leibnitz\, Steiermark\, 8430\, Österreich
CATEGORIES:Vorspielstunde
END:VEVENT
END:VCALENDAR