BEGIN:VCALENDAR
VERSION:2.0
PRODID:-//Franz-Koringer-Musikschule der Stadt Leibnitz - ECPv6.15.20//NONSGML v1.0//EN
CALSCALE:GREGORIAN
METHOD:PUBLISH
X-WR-CALNAME:Franz-Koringer-Musikschule der Stadt Leibnitz
X-ORIGINAL-URL:https://www.ms-leibnitz.at
X-WR-CALDESC:Veranstaltungen für Franz-Koringer-Musikschule der Stadt Leibnitz
REFRESH-INTERVAL;VALUE=DURATION:PT1H
X-Robots-Tag:noindex
X-PUBLISHED-TTL:PT1H
BEGIN:VTIMEZONE
TZID:Europe/Helsinki
BEGIN:DAYLIGHT
TZOFFSETFROM:+0200
TZOFFSETTO:+0300
TZNAME:EEST
DTSTART:20240331T010000
END:DAYLIGHT
BEGIN:STANDARD
TZOFFSETFROM:+0300
TZOFFSETTO:+0200
TZNAME:EET
DTSTART:20241027T010000
END:STANDARD
BEGIN:DAYLIGHT
TZOFFSETFROM:+0200
TZOFFSETTO:+0300
TZNAME:EEST
DTSTART:20250330T010000
END:DAYLIGHT
BEGIN:STANDARD
TZOFFSETFROM:+0300
TZOFFSETTO:+0200
TZNAME:EET
DTSTART:20251026T010000
END:STANDARD
BEGIN:DAYLIGHT
TZOFFSETFROM:+0200
TZOFFSETTO:+0300
TZNAME:EEST
DTSTART:20260329T010000
END:DAYLIGHT
BEGIN:STANDARD
TZOFFSETFROM:+0300
TZOFFSETTO:+0200
TZNAME:EET
DTSTART:20261025T010000
END:STANDARD
END:VTIMEZONE
BEGIN:VEVENT
DTSTART;TZID=Europe/Helsinki:20250203T180000
DTEND;TZID=Europe/Helsinki:20250203T193000
DTSTAMP:20260420T193604
CREATED:20250114T102348Z
LAST-MODIFIED:20250114T102348Z
UID:1378-1738605600-1738611000@www.ms-leibnitz.at
SUMMARY:Steirische Harmonika-\, Akkordeon-\, Keyboard-Vorspielstunde der Klasse Žan Trobas
DESCRIPTION:
URL:https://www.ms-leibnitz.at/index.php/event/steirische-harmonika-akkordeon-keyboard-vorspielstunde-der-klasse-zan-trobas/
LOCATION:Steiermark
CATEGORIES:Vorspielstunde
END:VEVENT
BEGIN:VEVENT
DTSTART;TZID=Europe/Helsinki:20250205T180000
DTEND;TZID=Europe/Helsinki:20250205T193000
DTSTAMP:20260420T193604
CREATED:20250116T162324Z
LAST-MODIFIED:20250116T162324Z
UID:1381-1738778400-1738783800@www.ms-leibnitz.at
SUMMARY:Cello- und Gesangsvorspielstunde der Klasse Martina Trunk
DESCRIPTION:
URL:https://www.ms-leibnitz.at/index.php/event/cello-und-gesangsvorspielstunde-der-klasse-martina-trunk/
LOCATION:Musikschule Leibnitz\, Wagnastraße 9\, Leibnitz\, Steiermark\, 8430\, Österreich
CATEGORIES:Vorspielstunde
END:VEVENT
BEGIN:VEVENT
DTSTART;TZID=Europe/Helsinki:20250208T180000
DTEND;TZID=Europe/Helsinki:20250208T193000
DTSTAMP:20260420T193604
CREATED:20250117T115826Z
LAST-MODIFIED:20250117T115826Z
UID:1386-1739037600-1739043000@www.ms-leibnitz.at
SUMMARY:Gitarrenvorspielstunde der Klasse Marian Kolarik
DESCRIPTION:
URL:https://www.ms-leibnitz.at/index.php/event/gitarrenvorspielstunde-der-klasse-marian-kolarik/
LOCATION:Musikschule Leibnitz\, Wagnastraße 9\, Leibnitz\, Steiermark\, 8430\, Österreich
CATEGORIES:Vorspielstunde
END:VEVENT
BEGIN:VEVENT
DTSTART;TZID=Europe/Helsinki:20250210T180000
DTEND;TZID=Europe/Helsinki:20250210T193000
DTSTAMP:20260420T193604
CREATED:20250120T094406Z
LAST-MODIFIED:20250120T094407Z
UID:1391-1739210400-1739215800@www.ms-leibnitz.at
SUMMARY:Klarinetten- und Saxofon- Vorspielstunde der Klasse Tina Swoboda
DESCRIPTION:
URL:https://www.ms-leibnitz.at/index.php/event/klarinetten-und-saxofon-vorspielstunde-der-klasse-tina-swoboda/
LOCATION:Musikschule Leibnitz\, Wagnastraße 9\, Leibnitz\, Steiermark\, 8430\, Österreich
CATEGORIES:Vorspielstunde
END:VEVENT
BEGIN:VEVENT
DTSTART;TZID=Europe/Helsinki:20250212T170000
DTEND;TZID=Europe/Helsinki:20250212T183000
DTSTAMP:20260420T193604
CREATED:20250127T111248Z
LAST-MODIFIED:20250211T113001Z
UID:1406-1739379600-1739385000@www.ms-leibnitz.at
SUMMARY:ABGESAGT-Schlagwerk-Vorspielstunde der Klasse Bernhard Richter
DESCRIPTION:Wegen Krankheit muss die Schlagwerk-Vorspielstunde der Klasse Richter abgesagt werden.
URL:https://www.ms-leibnitz.at/index.php/event/schlagwerk-vorspielstunde-der-klasse-bernhard-richter/
LOCATION:Steiermark
CATEGORIES:Vorspielstunde
END:VEVENT
BEGIN:VEVENT
DTSTART;TZID=Europe/Helsinki:20250227T180000
DTEND;TZID=Europe/Helsinki:20250227T193000
DTSTAMP:20260420T193604
CREATED:20250116T162717Z
LAST-MODIFIED:20250120T101712Z
UID:1384-1740679200-1740684600@www.ms-leibnitz.at
SUMMARY:Gemeinsames Faschingskonzert der Musikschulklassen
DESCRIPTION:In dieser gemeinsamen Vorspielstunde der verschiedenen Hauptfachklassen der Musikschule Leibnitz werden verschiedenste Beiträge rund um den Fasching aufgeführt.
URL:https://www.ms-leibnitz.at/index.php/event/gemeinsames-faschingskonzert-der-musikschulklassen/
LOCATION:Musikschule Leibnitz\, Wagnastraße 9\, Leibnitz\, Steiermark\, 8430\, Österreich
CATEGORIES:Konzert,Vorspielstunde
END:VEVENT
END:VCALENDAR