BEGIN:VCALENDAR
VERSION:2.0
PRODID:-//Franz-Koringer-Musikschule der Stadt Leibnitz - ECPv6.15.20//NONSGML v1.0//EN
CALSCALE:GREGORIAN
METHOD:PUBLISH
X-ORIGINAL-URL:https://www.ms-leibnitz.at
X-WR-CALDESC:Veranstaltungen für Franz-Koringer-Musikschule der Stadt Leibnitz
REFRESH-INTERVAL;VALUE=DURATION:PT1H
X-Robots-Tag:noindex
X-PUBLISHED-TTL:PT1H
BEGIN:VTIMEZONE
TZID:Europe/Helsinki
BEGIN:DAYLIGHT
TZOFFSETFROM:+0200
TZOFFSETTO:+0300
TZNAME:EEST
DTSTART:20240331T010000
END:DAYLIGHT
BEGIN:STANDARD
TZOFFSETFROM:+0300
TZOFFSETTO:+0200
TZNAME:EET
DTSTART:20241027T010000
END:STANDARD
BEGIN:DAYLIGHT
TZOFFSETFROM:+0200
TZOFFSETTO:+0300
TZNAME:EEST
DTSTART:20250330T010000
END:DAYLIGHT
BEGIN:STANDARD
TZOFFSETFROM:+0300
TZOFFSETTO:+0200
TZNAME:EET
DTSTART:20251026T010000
END:STANDARD
BEGIN:DAYLIGHT
TZOFFSETFROM:+0200
TZOFFSETTO:+0300
TZNAME:EEST
DTSTART:20260329T010000
END:DAYLIGHT
BEGIN:STANDARD
TZOFFSETFROM:+0300
TZOFFSETTO:+0200
TZNAME:EET
DTSTART:20261025T010000
END:STANDARD
END:VTIMEZONE
BEGIN:VEVENT
DTSTART;TZID=Europe/Helsinki:20250127T180000
DTEND;TZID=Europe/Helsinki:20250127T193000
DTSTAMP:20260420T205707
CREATED:20250110T120559Z
LAST-MODIFIED:20250110T120559Z
UID:1371-1738000800-1738006200@www.ms-leibnitz.at
SUMMARY:Klaviervorspielstunde der Klasse Elena Schlauer
DESCRIPTION:
URL:https://www.ms-leibnitz.at/index.php/event/klaviervorspielstunde-der-klasse-elena-schlauer/
LOCATION:Musikschule Leibnitz\, Wagnastraße 9\, Leibnitz\, Steiermark\, 8430\, Österreich
CATEGORIES:Vorspielstunde
END:VEVENT
BEGIN:VEVENT
DTSTART;TZID=Europe/Helsinki:20250131T173000
DTEND;TZID=Europe/Helsinki:20250131T190000
DTSTAMP:20260420T205707
CREATED:20250114T101344Z
LAST-MODIFIED:20250114T101345Z
UID:1375-1738344600-1738350000@www.ms-leibnitz.at
SUMMARY:Blechblasinstrumente- Vorspielstunde der Klassen Ferk und Weiß
DESCRIPTION:
URL:https://www.ms-leibnitz.at/index.php/event/blechblasinstrumente-vorspielstunde-der-klassen-ferk-und-weiss/
LOCATION:Musikschule Leibnitz\, Wagnastraße 9\, Leibnitz\, Steiermark\, 8430\, Österreich
CATEGORIES:Vorspielstunde
END:VEVENT
END:VCALENDAR