BEGIN:VCALENDAR
VERSION:2.0
PRODID:-//Franz-Koringer-Musikschule der Stadt Leibnitz - ECPv6.15.20//NONSGML v1.0//EN
CALSCALE:GREGORIAN
METHOD:PUBLISH
X-ORIGINAL-URL:https://www.ms-leibnitz.at
X-WR-CALDESC:Veranstaltungen für Franz-Koringer-Musikschule der Stadt Leibnitz
REFRESH-INTERVAL;VALUE=DURATION:PT1H
X-Robots-Tag:noindex
X-PUBLISHED-TTL:PT1H
BEGIN:VTIMEZONE
TZID:Europe/Helsinki
BEGIN:DAYLIGHT
TZOFFSETFROM:+0200
TZOFFSETTO:+0300
TZNAME:EEST
DTSTART:20230326T010000
END:DAYLIGHT
BEGIN:STANDARD
TZOFFSETFROM:+0300
TZOFFSETTO:+0200
TZNAME:EET
DTSTART:20231029T010000
END:STANDARD
BEGIN:DAYLIGHT
TZOFFSETFROM:+0200
TZOFFSETTO:+0300
TZNAME:EEST
DTSTART:20240331T010000
END:DAYLIGHT
BEGIN:STANDARD
TZOFFSETFROM:+0300
TZOFFSETTO:+0200
TZNAME:EET
DTSTART:20241027T010000
END:STANDARD
BEGIN:DAYLIGHT
TZOFFSETFROM:+0200
TZOFFSETTO:+0300
TZNAME:EEST
DTSTART:20250330T010000
END:DAYLIGHT
BEGIN:STANDARD
TZOFFSETFROM:+0300
TZOFFSETTO:+0200
TZNAME:EET
DTSTART:20251026T010000
END:STANDARD
END:VTIMEZONE
BEGIN:VEVENT
DTSTART;TZID=Europe/Helsinki:20241022T100000
DTEND;TZID=Europe/Helsinki:20241022T110000
DTSTAMP:20260421T015956
CREATED:20240927T101439Z
LAST-MODIFIED:20241002T130611Z
UID:1259-1729591200-1729594800@www.ms-leibnitz.at
SUMMARY:Musiktheater "FREUDE" Schulvorstellung
DESCRIPTION:*FREUDE*Aufgrund der Eröffnung des neuen Musikschulgebäudes herrscht bei allen SchülerInnen und LehrerInnen der Franz Koringer Musikschule große Freude. Diese Freude wurde aufgegriffen und in Form eines Musiktheaters niedergeschrieben. \n\n\n\nAm 22.10. werden 200 SchülerInnen der F.K.Musikschule auf der Bühne in der Sporthalle Leibnitz stehen und sich musikalisch dem Thema Freude widmen. Zu hören und zu sehen sind Instrumentalensembles aller Klassen\, der Chor Allegretto\, das Blasorchester\, Kinder der musikalischen Früherziehung\, TänzerInnen\, SchauspielerInnen und ein Sprecher.Bis hin zum Bühnenbild wurde das gesamte Musiktheater gemeinsam mit den MusikschülerInnen in Workshopwochen konzipiert. \n\n\n\nFreuen Sie sich auf eine kreative Vorstellung für die ganze Familie\, auf eine musikalisch berührende Geschichte über „Freudedinge“ und auf viele motivierte NachwuchsmusikerInnen der F.K. Musikschule Leibnitz.
URL:https://www.ms-leibnitz.at/index.php/event/musiktheater-freude-schulvorstellung/
LOCATION:Reinhold-Heidinger-Sporthalle\, Wagnastraße 7\, Leibnitz\, 8430\, Austria
CATEGORIES:Konzert,Musicalaufführung
END:VEVENT
BEGIN:VEVENT
DTSTART;TZID=Europe/Helsinki:20241022T180000
DTEND;TZID=Europe/Helsinki:20241022T190000
DTSTAMP:20260421T015956
CREATED:20240927T101638Z
LAST-MODIFIED:20241002T130556Z
UID:1265-1729620000-1729623600@www.ms-leibnitz.at
SUMMARY:Musiktheater "FREUDE" Abendvorstellung
DESCRIPTION:*FREUDE*Aufgrund der Eröffnung des neuen Musikschulgebäudes herrscht bei allen SchülerInnen und LehrerInnen der Franz Koringer Musikschule große Freude. Diese Freude wurde aufgegriffen und in Form eines Musiktheaters niedergeschrieben. \n\n\n\nAm 22.10. werden 200 SchülerInnen der F.K.Musikschule auf der Bühne in der Sporthalle Leibnitz stehen und sich musikalisch dem Thema Freude widmen. Zu hören und zu sehen sind Instrumentalensembles aller Klassen\, der Chor Allegretto\, das Blasorchester\, Kinder der musikalischen Früherziehung\, TänzerInnen\, SchauspielerInnen und ein Sprecher.Bis hin zum Bühnenbild wurde das gesamte Musiktheater gemeinsam mit den MusikschülerInnen in Workshopwochen konzipiert. \n\n\n\nFreuen Sie sich auf eine kreative Vorstellung für die ganze Familie\, auf eine musikalisch berührende Geschichte über „Freudedinge“ und auf viele motivierte NachwuchsmusikerInnen der F.K. Musikschule Leibnitz.
URL:https://www.ms-leibnitz.at/index.php/event/musiktheater-freude-abendveranstaltung/
LOCATION:Reinhold-Heidinger-Sporthalle\, Wagnastraße 7\, Leibnitz\, 8430\, Austria
CATEGORIES:Konzert,Musicalaufführung
END:VEVENT
BEGIN:VEVENT
DTSTART;TZID=Europe/Helsinki:20241025T193000
DTEND;TZID=Europe/Helsinki:20241025T210000
DTSTAMP:20260421T015956
CREATED:20240927T103158Z
LAST-MODIFIED:20241010T141718Z
UID:1268-1729884600-1729890000@www.ms-leibnitz.at
SUMMARY:CARMINA BURANA
DESCRIPTION:Carmina Burana\n\n\n\nDie Mitwirkenden  \n\n\n\nSymphonisches Orchester Leibnitz  \n\n\n\nDas Symphonische Orchester besteht seit fast 40 Jahren\, seit 2003 wird unter der musikalischen Leitung von Hans Assinger musiziert.  \n\n\n\nChorgemeinschaft Wildon  \n\n\n\nUrsprünglich als Projektchor konzipiert besteht der Chor seit 40 Jahren – immer unter der Leitung von Hans Assinger.  \n\n\n\nVokal Stiefingtal  \n\n\n\nSeit 30 Jahren verbindet den Chor die Leidenschaft für Gesang und Musik in Heiligenkreuz am Waasen.  \n\n\n\nKinderchor „Allegretto“ der Musikschule Leibnitz  \n\n\n\nIm Kinderchor vereint Katrhin Ully musikbegeisterte junge Menschen\, die schon viele Auszeichnungen erhalten haben.  \n\n\n\n \n\n\n\nDirigent: Johann Assinger \n\n\n\nSolisten: \n\n\n\nSopran Sarah Nicholson  \n\n\n\nBass Julian Kumpusch  \n\n\n\nTenor Bernd Lambauer  \n\n\n\n \n\n\n\nDas Werk  \n\n\n\nOrff (* 10. Juli 1895 in München; † 29. März 1982 ebenda) stieß 1934 auf eine Ausgabe der Carmina Burana (lateinisch für Beurer Lieder oder Lieder aus Benediktbeuern)\, einer Sammlung von im 11. und 12. Jahrhundert entstandenen Lied- und Dramentexten\, hauptsächlich in Latein sowie einigen in Mittelhoch- deutsch und Altfranzösisch. \n\n\n\n„Bild und Worte überfielen mich. Obwohl ich mich fürs erste nur in großen Zügen mit dem Inhaltder Gedichtsammlung vertraut machen konnte\, stand sofort ein neues Werk\, ein Bühnenwerk mit Sing- und Tanzchören\, nur den Bildern und Texten folgend\, in Gedanken vor mir. Noch am selben Tag hatte ich eine Particell-Skizze vom ersten Chor „O Fortuna“ entworfen. Nach einer schlaflosen Nacht\, in der ich mich in der umfangreichen Gedichtsammlung fast verloren hätte\, war auch ein zweiter Chor Fortune plango vulnera“ entstanden\, und am Ostermorgen war ein dritter\, „Ecce gratum“\, zu Papier gebracht.“ – Carl Orff  \n\n\n\n24 dieser Texte suchte er für das Werk aus\, die Auswahl umfasst eine weite Spanne weltlicher Themen: die Wechselhaftigkeit von Glück und Wohlstand\, die Flüchtigkeit des Lebens\, die Freude über die Rück- kehr des Frühlings sowie die Genüsse und Gefahren von Trinken\, Völlerei\, Glücksspiel und Wollust.  \n\n\n\nBei der Vertonung handelt es sich um eine völlige Neukomposition\, die er nach bereits bekannten Stilmerkmalen des Mittelalters gestaltete.  \n\n\n\nNach der erfolgreichen Uraufführung im Jahre 1937 wurde das Werk rasch zu einem der populärsten Stücke ernster Musik und zum meist aufgeführten Chor-/Orchesterwerk des 20. Jahrhunderts. Die Carmina Burana ist vielfach in anderen Werken verwendet worden. Insbesondere der wuchtige Chorsatz O fortuna\, mit dem das Werk beginnt\, ist so populär\, dass er häufig als Filmmusik verwendet wird.  \n\n\n\n \n\n\n\nKarten zum Vorverkaufspreis (€30\,-) sind erhältlich bei LeibnitzKULT\, im Café Adanitsch\, in der Musikschule Leibnitz und bei den Mitgliedern des Symphonischen Orchesters Leibnitz.
URL:https://www.ms-leibnitz.at/index.php/event/carmina-burana/
LOCATION:Reinhold-Heidinger-Sporthalle\, Wagnastraße 7\, Leibnitz\, 8430\, Austria
CATEGORIES:Konzert
END:VEVENT
END:VCALENDAR